
BEGIN:VCALENDAR
VERSION:2.0
PRODID:-//2021 - ECPv5.1.2//NONSGML v1.0//EN
CALSCALE:GREGORIAN
METHOD:PUBLISH
X-WR-CALNAME:2021
X-ORIGINAL-URL:https://2021.nz
X-WR-CALDESC:Events for 2021
BEGIN:VTIMEZONE
TZID:UTC
BEGIN:STANDARD
TZOFFSETFROM:+0000
TZOFFSETTO:+0000
TZNAME:UTC
DTSTART:20210101T000000
END:STANDARD
END:VTIMEZONE
BEGIN:VEVENT
DTSTART;VALUE=DATE:20211108
DTEND;VALUE=DATE:20211115
DTSTAMP:20210118T212956
CREATED:20200607T024603Z
LAST-MODIFIED:20200607T024603Z
UID:295-1636329600-1636934399@2021.nz
SUMMARY:APEC Leaders’ Week
DESCRIPTION:Includes: \n\nConcluding Senior Officials Meeting (CSOM)\nAPEC Ministerial Meeting (AMM)\nVoices of the Future youth summit\nAPEC Business Advisory Council (ABAC)\nCEO Summit\nAPEC Economic Leaders’ Meeting (AELM)\n\n
URL:https://2021.nz/event/apec-leaders-week/
LOCATION:Auckland
CATEGORIES:APEC,Business
ATTACH;FMTTYPE=image/jpeg:https://2021.nz/wp-content/uploads/2020/06/APEC.jpg
END:VEVENT
END:VCALENDAR