
BEGIN:VCALENDAR
VERSION:2.0
PRODID:-//2021 - ECPv5.1.2//NONSGML v1.0//EN
CALSCALE:GREGORIAN
METHOD:PUBLISH
X-WR-CALNAME:2021
X-ORIGINAL-URL:https://2021.nz
X-WR-CALDESC:Events for 2021
BEGIN:VTIMEZONE
TZID:UTC
BEGIN:STANDARD
TZOFFSETFROM:+0000
TZOFFSETTO:+0000
TZNAME:UTC
DTSTART:20210101T000000
END:STANDARD
END:VTIMEZONE
BEGIN:VEVENT
DTSTART;VALUE=DATE:20210101
DTEND;VALUE=DATE:20210131
DTSTAMP:20210118T212533
CREATED:20200607T020905Z
LAST-MODIFIED:20200607T022912Z
UID:265-1609459200-1612051199@2021.nz
SUMMARY:ASB Classic
DESCRIPTION:
URL:https://2021.nz/event/asb-classic/
CATEGORIES:Sport
ATTACH;FMTTYPE=image/jpeg:https://2021.nz/wp-content/uploads/2020/06/ASBClassic.jpg
END:VEVENT
END:VCALENDAR