
BEGIN:VCALENDAR
VERSION:2.0
PRODID:-//2021 - ECPv5.1.2//NONSGML v1.0//EN
CALSCALE:GREGORIAN
METHOD:PUBLISH
X-WR-CALNAME:2021
X-ORIGINAL-URL:https://2021.nz
X-WR-CALDESC:Events for 2021
BEGIN:VTIMEZONE
TZID:UTC
BEGIN:STANDARD
TZOFFSETFROM:+0000
TZOFFSETTO:+0000
TZNAME:UTC
DTSTART:20210101T000000
END:STANDARD
END:VTIMEZONE
BEGIN:VEVENT
DTSTART;VALUE=DATE:20210301
DTEND;VALUE=DATE:20210401
DTSTAMP:20210118T212758
CREATED:20200607T023934Z
LAST-MODIFIED:20200607T024231Z
UID:282-1614556800-1617235199@2021.nz
SUMMARY:Finance Deputies meeting
DESCRIPTION:Date TBD \nHeld in Wellington over two days. \n
URL:https://2021.nz/event/finance-deputies-meeting/
LOCATION:Wellington
CATEGORIES:APEC,Business
ATTACH;FMTTYPE=image/jpeg:https://2021.nz/wp-content/uploads/2020/06/APEC.jpg
END:VEVENT
END:VCALENDAR