
BEGIN:VCALENDAR
VERSION:2.0
PRODID:-//2021 - ECPv5.1.2//NONSGML v1.0//EN
CALSCALE:GREGORIAN
METHOD:PUBLISH
X-WR-CALNAME:2021
X-ORIGINAL-URL:https://2021.nz
X-WR-CALDESC:Events for 2021
BEGIN:VTIMEZONE
TZID:UTC
BEGIN:STANDARD
TZOFFSETFROM:+0000
TZOFFSETTO:+0000
TZNAME:UTC
DTSTART:20210101T000000
END:STANDARD
END:VTIMEZONE
BEGIN:VEVENT
DTSTART;VALUE=DATE:20210201
DTEND;VALUE=DATE:20210302
DTSTAMP:20210118T212741
CREATED:20200607T023831Z
LAST-MODIFIED:20200607T024237Z
UID:280-1612137600-1614643199@2021.nz
SUMMARY:First Senior Officials meeting (SOM1)
DESCRIPTION:Date TBD \nHeld in Wellington over 14 days. \n
URL:https://2021.nz/event/first-senior-officials-meeting-som1/
LOCATION:Wellington
CATEGORIES:APEC,Business
ATTACH;FMTTYPE=image/jpeg:https://2021.nz/wp-content/uploads/2020/06/APEC.jpg
END:VEVENT
END:VCALENDAR