
BEGIN:VCALENDAR
VERSION:2.0
PRODID:-//2021 - ECPv5.1.2//NONSGML v1.0//EN
CALSCALE:GREGORIAN
METHOD:PUBLISH
X-WR-CALNAME:2021
X-ORIGINAL-URL:https://2021.nz
X-WR-CALDESC:Events for 2021
BEGIN:VTIMEZONE
TZID:UTC
BEGIN:STANDARD
TZOFFSETFROM:+0000
TZOFFSETTO:+0000
TZNAME:UTC
DTSTART:20190101T000000
END:STANDARD
END:VTIMEZONE
BEGIN:VEVENT
DTSTART;VALUE=DATE:20191201
DTEND;VALUE=DATE:20200101
DTSTAMP:20210118T212722
CREATED:20200607T023653Z
LAST-MODIFIED:20200607T024248Z
UID:276-1575158400-1577836799@2021.nz
SUMMARY:Informal Senior Officials meeting (ISOM)
DESCRIPTION:Date TBD \nHeld in Wellington over two days. \n
URL:https://2021.nz/event/informal-senior-officials-meeting-isom/
LOCATION:Wellington
CATEGORIES:APEC,Business
ATTACH;FMTTYPE=image/jpeg:https://2021.nz/wp-content/uploads/2020/06/APEC.jpg
END:VEVENT
END:VCALENDAR