
BEGIN:VCALENDAR
VERSION:2.0
PRODID:-//2021 - ECPv5.1.2//NONSGML v1.0//EN
CALSCALE:GREGORIAN
METHOD:PUBLISH
X-WR-CALNAME:2021
X-ORIGINAL-URL:https://2021.nz
X-WR-CALDESC:Events for 2021
BEGIN:VTIMEZONE
TZID:UTC
BEGIN:STANDARD
TZOFFSETFROM:+0000
TZOFFSETTO:+0000
TZNAME:UTC
DTSTART:20210101T000000
END:STANDARD
END:VTIMEZONE
BEGIN:VEVENT
DTSTART;VALUE=DATE:20210901
DTEND;VALUE=DATE:20211101
DTSTAMP:20210118T212939
CREATED:20200607T024512Z
LAST-MODIFIED:20200607T024512Z
UID:293-1630454400-1635724799@2021.nz
SUMMARY:Ministers of Finance\, Senior Finance Officials and Finance Deputies meeting
DESCRIPTION:Date TBD \nHeld in Wellington over 4 days. \n
URL:https://2021.nz/event/ministers-of-finance-senior-finance-officials-and-finance-deputies-meeting/
LOCATION:Wellington
CATEGORIES:APEC,Business
ATTACH;FMTTYPE=image/jpeg:https://2021.nz/wp-content/uploads/2020/06/APEC.jpg
END:VEVENT
END:VCALENDAR